BEGIN:VCALENDAR
VERSION:2.0
PRODID:-//Barker Events//NONSGML Event Calendar//EN
CALSCALE:GREGORIAN
METHOD:PUBLISH
X-WR-CALNAME: Event
X-WR-TIMEZONE:America/Vancouver
BEGIN:VTIMEZONE
TZID:America/Vancouver
END:VTIMEZONE
BEGIN:VEVENT
UID:52994@https://www.theparktheatre.ca
DTSTAMP:20260401T155610Z
DTSTART:20260530T184500Z
DTEND:20260530T184500Z
SUMMARY:Backrooms
DESCRIPTION:A strange doorway appears in the basement of a furniture showroom. Advance Screening Thursday\, May 28 Doors 615 pm | Movie 6:45 pm *Start time subject to change. Please arrive on time. Tickets HERE Friday\, May 29 Doors 615 pm | Movie 6:45 pm *Start time subject to change. Please...
URL:https://www.theparktheatre.ca/movie/backrooms/
STATUS:CONFIRMED
END:VEVENT
END:VCALENDAR