BEGIN:VCALENDAR
VERSION:2.0
PRODID:-//Barker Events//NONSGML Event Calendar//EN
CALSCALE:GREGORIAN
METHOD:PUBLISH
X-WR-CALNAME: Event
X-WR-TIMEZONE:America/Vancouver
BEGIN:VTIMEZONE
TZID:America/Vancouver
END:VTIMEZONE
BEGIN:VEVENT
UID:53026@https://www.theparktheatre.ca
DTSTAMP:20260407T123335Z
DTSTART:20260425T113000Z
DTEND:20260425T113000Z
SUMMARY:Kiki’s Delivery Service (2026 Restoration)
DESCRIPTION:KIKI’S DELIVERY SERVICE\, the timeless and beloved classic from Academy Award®-winning director Hayao Miyazaki and globally celebrated animation house Studio Ghibli is newly remastered in 4K for 2026. There is no better way to appreciate the magic of Studio Ghibli than on the big screen! Movie-lovers of all ages adore...
URL:https://www.theparktheatre.ca/movie/kikis-delivery-service-2026-restoration/
STATUS:CONFIRMED
END:VEVENT
END:VCALENDAR