BEGIN:VCALENDAR
VERSION:2.0
PRODID:-//Barker Events//NONSGML Event Calendar//EN
CALSCALE:GREGORIAN
METHOD:PUBLISH
X-WR-CALNAME: Event
X-WR-TIMEZONE:America/Vancouver
BEGIN:VTIMEZONE
TZID:America/Vancouver
END:VTIMEZONE
BEGIN:VEVENT
UID:53053@https://www.theparktheatre.ca
DTSTAMP:20260414T123325Z
DTSTART:20260423T181500Z
DTEND:20260423T181500Z
SUMMARY:The Hustler (65th Anniversary Screening)
DESCRIPTION:With his boyish grin and laid-back good looks\, Fast Eddie Felson (Paul Newman) has fleeced his share of pool-hall gamblers. Now the brash pool shark is after the king of the cue stick: Minnesota Fats (Jackie Gleason). But after losing to Fats in a grueling\, 36-hour match\, Eddie hits the...
URL:https://www.theparktheatre.ca/movie/the-hustler/
STATUS:CONFIRMED
END:VEVENT
END:VCALENDAR