BEGIN:VCALENDAR
VERSION:2.0
PRODID:-//Barker Events//NONSGML Event Calendar//EN
CALSCALE:GREGORIAN
METHOD:PUBLISH
X-WR-CALNAME: Event
X-WR-TIMEZONE:America/Vancouver
BEGIN:VTIMEZONE
TZID:America/Vancouver
END:VTIMEZONE
BEGIN:VEVENT
UID:53063@https://www.theparktheatre.ca
DTSTAMP:20260416T145530Z
DTSTART:20260515T183000Z
DTEND:20260515T183000Z
SUMMARY:Blue Heron
DESCRIPTION:In the late 1990s\, eight-year-old Sasha and her family relocate to a new home on Vancouver Island\, but their fresh start is interrupted by increasingly dangerous behavior from the eldest son\, Jeremy. At wit’s end\, their parents are presented with a shattering choice. Award-winning director Sophy Romvari’s feature debut is...
URL:https://www.theparktheatre.ca/movie/blue-heron-w-director-qa/
STATUS:CONFIRMED
END:VEVENT
END:VCALENDAR