BEGIN:VCALENDAR
VERSION:2.0
PRODID:-//Barker Events//NONSGML Event Calendar//EN
CALSCALE:GREGORIAN
METHOD:PUBLISH
X-WR-CALNAME: Event
X-WR-TIMEZONE:America/Vancouver
BEGIN:VTIMEZONE
TZID:America/Vancouver
END:VTIMEZONE
BEGIN:VEVENT
UID:53103@https://www.theparktheatre.ca
DTSTAMP:20260421T122240Z
DTSTART:20260427T211500Z
DTEND:20260427T211500Z
SUMMARY:Exit 8
DESCRIPTION:Exit 8 (2025) is a Japanese psychological thriller directed by Genki Kawamura\, based on the 2023 viral video game of the same name. It follows a man known as "The Lost Man" (Kazunari Ninomiya) who is trapped in an endlessly looping\, sterile Tokyo subway corridor. To escape\, he must navigate to "Exit 8"...
URL:https://www.theparktheatre.ca/movie/exit-8/
STATUS:CONFIRMED
END:VEVENT
END:VCALENDAR