BEGIN:VCALENDAR
VERSION:2.0
PRODID:-//Barker Events//NONSGML Event Calendar//EN
CALSCALE:GREGORIAN
METHOD:PUBLISH
X-WR-CALNAME: Event
X-WR-TIMEZONE:America/Vancouver
BEGIN:VTIMEZONE
TZID:America/Vancouver
END:VTIMEZONE
BEGIN:VEVENT
UID:53104@https://www.theparktheatre.ca
DTSTAMP:20260421T124515Z
DTSTART:20260428T154500Z
DTEND:20260428T154500Z
SUMMARY:The Christophers
DESCRIPTION:Oscar-winning director Steven Soderbergh (TRAFFIC\, ERIN BROCKOVICH) capably directs this black comedy featuring Ian McKellan and Micaela Cole in a sly\, two-hander character study. Desperate for an inheritance\, two siblings conspire to forge their father's unfinished paintings so they become valuable after his death. With Jessica Gunning\, James Corden. "Had...
URL:https://www.theparktheatre.ca/movie/the-christophers/
STATUS:CONFIRMED
END:VEVENT
END:VCALENDAR