BEGIN:VCALENDAR
VERSION:2.0
PRODID:-//Barker Events//NONSGML Event Calendar//EN
CALSCALE:GREGORIAN
METHOD:PUBLISH
X-WR-CALNAME: Event
X-WR-TIMEZONE:America/Vancouver
BEGIN:VTIMEZONE
TZID:America/Vancouver
END:VTIMEZONE
BEGIN:VEVENT
UID:53106@https://www.theparktheatre.ca
DTSTAMP:20260421T121246Z
DTSTART:20260429T181500Z
DTEND:20260429T181500Z
SUMMARY:Martin Scorsese’s ‘The Color of Money’ (40th Anniversary Restoration)
DESCRIPTION:Just in time for it's 40th Anniversary\, Martin Scorsese's THE COLOR OF MONEY has been given the restoration treatment. Set 25 years after the events of THE HUSTLER\, Paul Newman reprises his role as “Fast Eddie” Felson. Eddie still plays pool\, but not for money and not with the high-stakes\,...
URL:https://www.theparktheatre.ca/movie/the-color-of-money-2026-restoration/
STATUS:CONFIRMED
END:VEVENT
END:VCALENDAR