BEGIN:VCALENDAR
VERSION:2.0
PRODID:-//Barker Events//NONSGML Event Calendar//EN
CALSCALE:GREGORIAN
METHOD:PUBLISH
X-WR-CALNAME: Event
X-WR-TIMEZONE:America/Vancouver
BEGIN:VTIMEZONE
TZID:America/Vancouver
END:VTIMEZONE
BEGIN:VEVENT
UID:53110@https://www.theparktheatre.ca
DTSTAMP:20260421T125334Z
DTSTART:20260503T131500Z
DTEND:20260503T131500Z
SUMMARY:Billy Preston: That’s the Way God Planned It
DESCRIPTION:Billy Preston was 5 years old when he backed gospel legend Mahalia Jackson. Over the following six-decade career\, Billy contributed his signature sound to the greatest artists of his time\, including The Beatles\, The Rolling Stones\, Barbra Streisand\, Sly Stone\, Ray Charles\, Rufus\, Eric Clapton\, and others\, while establishing himself...
URL:https://www.theparktheatre.ca/movie/billy-preston-thats-the-way-god-planned-it/
STATUS:CONFIRMED
END:VEVENT
END:VCALENDAR