BEGIN:VCALENDAR
VERSION:2.0
PRODID:-//Barker Events//NONSGML Event Calendar//EN
CALSCALE:GREGORIAN
METHOD:PUBLISH
X-WR-CALNAME: Event
X-WR-TIMEZONE:America/Vancouver
BEGIN:VTIMEZONE
TZID:America/Vancouver
END:VTIMEZONE
BEGIN:VEVENT
UID:53112@https://www.theparktheatre.ca
DTSTAMP:20260421T133238Z
DTSTART:20260501T184500Z
DTEND:20260501T184500Z
SUMMARY:The Wicker Man (4K Restoration)
DESCRIPTION:May 1 is upon us - Spring has sprung! And there's no better way to mark "May Day\," a mystical day revered in countless cultures\, including cinephile enthusiasts who ritually to mark the important date on the calendar with juicy\, classic works of folk horror... On the big screen! We're...
URL:https://www.theparktheatre.ca/movie/the-wicker-man/
STATUS:CONFIRMED
END:VEVENT
END:VCALENDAR