BEGIN:VCALENDAR
VERSION:2.0
PRODID:-//Barker Events//NONSGML Event Calendar//EN
CALSCALE:GREGORIAN
METHOD:PUBLISH
X-WR-CALNAME: Event
X-WR-TIMEZONE:America/Vancouver
BEGIN:VTIMEZONE
TZID:America/Vancouver
END:VTIMEZONE
BEGIN:VEVENT
UID:53126@https://www.theparktheatre.ca
DTSTAMP:20260421T154117Z
DTSTART:20260510T131500Z
DTEND:20260510T131500Z
SUMMARY:Mildred Pierce
DESCRIPTION:When Mildred Pierce's wealthy husband leaves her for another woman\, Mildred (Joan Crawford\, in her signature performance) decides to raise her two daughters on her own. Despite Mildred's financial successes in the restaurant business\, her oldest daughter\, Veda\, resents her mother for degrading their social status. In the midst of...
URL:https://www.theparktheatre.ca/movie/mildred-pierce/
STATUS:CONFIRMED
END:VEVENT
END:VCALENDAR