BEGIN:VCALENDAR
VERSION:2.0
PRODID:-//Barker Events//NONSGML Event Calendar//EN
CALSCALE:GREGORIAN
METHOD:PUBLISH
X-WR-CALNAME: Event
X-WR-TIMEZONE:America/Vancouver
BEGIN:VTIMEZONE
TZID:America/Vancouver
END:VTIMEZONE
BEGIN:VEVENT
UID:53127@https://www.theparktheatre.ca
DTSTAMP:20260421T155104Z
DTSTART:20260510T160000Z
DTEND:20260510T160000Z
SUMMARY:Mamma Mia!
DESCRIPTION:Join us at the Park Theatre on Sunday\, May 10 (Mother's Day!) and get ready to dance\, jive\, and have the time of your life with a very special screening of singalong favourite\, MAMMA MIA! Based on the 1999 smash-hit "jukebox musical" MAMMA MIA!\, the film's A-list cast is practically...
URL:https://www.theparktheatre.ca/movie/mamma-mia/
STATUS:CONFIRMED
END:VEVENT
END:VCALENDAR