BEGIN:VCALENDAR
VERSION:2.0
PRODID:-//Barker Events//NONSGML Event Calendar//EN
CALSCALE:GREGORIAN
METHOD:PUBLISH
X-WR-CALNAME: Event
X-WR-TIMEZONE:America/Vancouver
BEGIN:VTIMEZONE
TZID:America/Vancouver
END:VTIMEZONE
BEGIN:VEVENT
UID:53141@https://www.theparktheatre.ca
DTSTAMP:20260421T161340Z
DTSTART:20260508T184500Z
DTEND:20260508T184500Z
SUMMARY:Speed Racer (4K Restoration)
DESCRIPTION:Start your engines! In 2008\, The Wachowskis brought the classic anime TV series to the big screen with their highly stylized and spirited take on of SPEED RACER. Critically maligned upon its initial release\, the film has emerged as a cult-classic\, with the shiny\, brand-new 4K restoration making a pit...
URL:https://www.theparktheatre.ca/movie/speed-racer/
STATUS:CONFIRMED
END:VEVENT
END:VCALENDAR