BEGIN:VCALENDAR
VERSION:2.0
PRODID:-//Barker Events//NONSGML Event Calendar//EN
CALSCALE:GREGORIAN
METHOD:PUBLISH
X-WR-CALNAME: Event
X-WR-TIMEZONE:America/Vancouver
BEGIN:VTIMEZONE
TZID:America/Vancouver
END:VTIMEZONE
BEGIN:VEVENT
UID:53152@https://www.theparktheatre.ca
DTSTAMP:20260422T093931Z
DTSTART:20260502T183000Z
DTEND:20260502T183000Z
SUMMARY:Alien
DESCRIPTION:"Listen to me! If we break quarantine\, we could all die." Join us at the Park Theatre for a Double Creature Feature screening of one of our all-time favourite franchises! We're going into deep space with Ridley Scott's iconic 1979 ALIEN followed by James Cameron's 1986 sequel\, ALIENS. As one of...
URL:https://www.theparktheatre.ca/movie/alien/
STATUS:CONFIRMED
END:VEVENT
END:VCALENDAR