BEGIN:VCALENDAR
VERSION:2.0
PRODID:-//Barker Events//NONSGML Event Calendar//EN
CALSCALE:GREGORIAN
METHOD:PUBLISH
X-WR-CALNAME: Event
X-WR-TIMEZONE:America/Vancouver
BEGIN:VTIMEZONE
TZID:America/Vancouver
END:VTIMEZONE
BEGIN:VEVENT
UID:53154@https://www.theparktheatre.ca
DTSTAMP:20260422T094835Z
DTSTART:20260502T210000Z
DTEND:20260502T210000Z
SUMMARY:Aliens (40th Anniversary Screening – Director’s Cut)
DESCRIPTION:Join us at the Park Theatre for a Double Creature Feature screening of one of our all-time favourite franchises! We're going into deep space with Ridley Scott's iconic 1979 ALIEN\, followed by James Cameron's 1986 sequel\, ALIENS. As one of – if not the – greatest action heroines to ever hit...
URL:https://www.theparktheatre.ca/movie/aliens-40th/
STATUS:CONFIRMED
END:VEVENT
END:VCALENDAR