BEGIN:VCALENDAR
VERSION:2.0
PRODID:-//Barker Events//NONSGML Event Calendar//EN
CALSCALE:GREGORIAN
METHOD:PUBLISH
X-WR-CALNAME: Event
X-WR-TIMEZONE:America/Vancouver
BEGIN:VTIMEZONE
TZID:America/Vancouver
END:VTIMEZONE
BEGIN:VEVENT
UID:53162@https://www.theparktheatre.ca
DTSTAMP:20260422T174905Z
DTSTART:20260510T183000Z
DTEND:20260510T183000Z
SUMMARY:Fried Green Tomatoes
DESCRIPTION:Evelyn is a middle-aged housewife dissatisfied with her life. On one of her weekly nursing home visits\, she meets an elderly lady\, Ninny Threadgoode\, a colorful and charismatic lady who brightens Evelyn's outlook by sharing a tale from her past\; the story of two young women in the 1930’s on a...
URL:https://www.theparktheatre.ca/movie/fried-green-tomatoes/
STATUS:CONFIRMED
END:VEVENT
END:VCALENDAR